BEGIN:VCALENDAR
VERSION:2.0
PRODID:-//Columbus - ECPv6.15.20//NONSGML v1.0//EN
CALSCALE:GREGORIAN
METHOD:PUBLISH
X-WR-CALNAME:Columbus
X-ORIGINAL-URL:https://columbus.cisvusa.org
X-WR-CALDESC:Events for Columbus
REFRESH-INTERVAL;VALUE=DURATION:PT1H
X-Robots-Tag:noindex
X-PUBLISHED-TTL:PT1H
BEGIN:VTIMEZONE
TZID:America/New_York
BEGIN:DAYLIGHT
TZOFFSETFROM:-0500
TZOFFSETTO:-0400
TZNAME:EDT
DTSTART:20240310T070000
END:DAYLIGHT
BEGIN:STANDARD
TZOFFSETFROM:-0400
TZOFFSETTO:-0500
TZNAME:EST
DTSTART:20241103T060000
END:STANDARD
BEGIN:DAYLIGHT
TZOFFSETFROM:-0500
TZOFFSETTO:-0400
TZNAME:EDT
DTSTART:20250309T070000
END:DAYLIGHT
BEGIN:STANDARD
TZOFFSETFROM:-0400
TZOFFSETTO:-0500
TZNAME:EST
DTSTART:20251102T060000
END:STANDARD
BEGIN:DAYLIGHT
TZOFFSETFROM:-0500
TZOFFSETTO:-0400
TZNAME:EDT
DTSTART:20260308T070000
END:DAYLIGHT
BEGIN:STANDARD
TZOFFSETFROM:-0400
TZOFFSETTO:-0500
TZNAME:EST
DTSTART:20261101T060000
END:STANDARD
BEGIN:DAYLIGHT
TZOFFSETFROM:-0500
TZOFFSETTO:-0400
TZNAME:EDT
DTSTART:20270314T070000
END:DAYLIGHT
BEGIN:STANDARD
TZOFFSETFROM:-0400
TZOFFSETTO:-0500
TZNAME:EST
DTSTART:20271107T060000
END:STANDARD
END:VTIMEZONE
BEGIN:VEVENT
DTSTART;TZID=America/New_York:20251116T150000
DTEND;TZID=America/New_York:20251116T170000
DTSTAMP:20260420T223606
CREATED:20251113T185702Z
LAST-MODIFIED:20251113T185702Z
UID:10000052-1763305200-1763312400@columbus.cisvusa.org
SUMMARY:Fall Meeting 2025
DESCRIPTION:
URL:https://columbus.cisvusa.org/event/fall-meeting-2025/
LOCATION:Bexley United Methodist Church\, 2657 E Broad St\, Columbus\, OH\, 43209\, United States
GEO:39.9696101;-82.9298615
X-APPLE-STRUCTURED-LOCATION;VALUE=URI;X-ADDRESS=Bexley United Methodist Church 2657 E Broad St Columbus OH 43209 United States;X-APPLE-RADIUS=500;X-TITLE=2657 E Broad St:geo:-82.9298615,39.9696101
END:VEVENT
BEGIN:VEVENT
DTSTART;VALUE=DATE:20260110
DTEND;VALUE=DATE:20260111
DTSTAMP:20260420T223606
CREATED:20251214T234502Z
LAST-MODIFIED:20251214T234709Z
UID:10000054-1768003200-1768089599@columbus.cisvusa.org
SUMMARY:The application deadline for CISV programs is January 10
DESCRIPTION:⏰ Application Deadline Approaching — January 10 \nThe application deadline for CISV programs is January 10. \nIf your family is interested in participating in a 2026 CISV program\, now is the time to act. Applications must be submitted in full by January 10 to be considered. \nCISV programs offer young people the chance to build lifelong friendships\, experience other cultures\, and develop leadership skills through immersive international and local programs. \nDo not wait until the last minute—applications require time\, references\, and careful completion. \nApply for a Program
URL:https://columbus.cisvusa.org/event/the-application-deadline-for-cisv-programs-is-january-10/
END:VEVENT
END:VCALENDAR