BEGIN:VCALENDAR
VERSION:2.0
PRODID:-//Columbus - ECPv6.15.20//NONSGML v1.0//EN
CALSCALE:GREGORIAN
METHOD:PUBLISH
X-WR-CALNAME:Columbus
X-ORIGINAL-URL:https://columbus.cisvusa.org
X-WR-CALDESC:Events for Columbus
REFRESH-INTERVAL;VALUE=DURATION:PT1H
X-Robots-Tag:noindex
X-PUBLISHED-TTL:PT1H
BEGIN:VTIMEZONE
TZID:America/New_York
BEGIN:DAYLIGHT
TZOFFSETFROM:-0500
TZOFFSETTO:-0400
TZNAME:EDT
DTSTART:20230312T070000
END:DAYLIGHT
BEGIN:STANDARD
TZOFFSETFROM:-0400
TZOFFSETTO:-0500
TZNAME:EST
DTSTART:20231105T060000
END:STANDARD
BEGIN:DAYLIGHT
TZOFFSETFROM:-0500
TZOFFSETTO:-0400
TZNAME:EDT
DTSTART:20240310T070000
END:DAYLIGHT
BEGIN:STANDARD
TZOFFSETFROM:-0400
TZOFFSETTO:-0500
TZNAME:EST
DTSTART:20241103T060000
END:STANDARD
BEGIN:DAYLIGHT
TZOFFSETFROM:-0500
TZOFFSETTO:-0400
TZNAME:EDT
DTSTART:20250309T070000
END:DAYLIGHT
BEGIN:STANDARD
TZOFFSETFROM:-0400
TZOFFSETTO:-0500
TZNAME:EST
DTSTART:20251102T060000
END:STANDARD
END:VTIMEZONE
BEGIN:VEVENT
DTSTART;VALUE=DATE:20241110
DTEND;VALUE=DATE:20241111
DTSTAMP:20260420T231702
CREATED:20241023T120348Z
LAST-MODIFIED:20241027T205228Z
UID:10000046-1731196800-1731283199@columbus.cisvusa.org
SUMMARY:Fall Meeting
DESCRIPTION:Board meeting 3:00-4:30\nSlide show and JB presentation (past travelers) 4:30-5:15\nDinner\, questions\, etc. 5:15-6:00\n\n 
URL:https://columbus.cisvusa.org/event/fall-meeting/
LOCATION:Bexley United Methodist Church\, 2657 E Broad St\, Columbus\, OH\, 43209\, United States
GEO:39.9696101;-82.9298615
X-APPLE-STRUCTURED-LOCATION;VALUE=URI;X-ADDRESS=Bexley United Methodist Church 2657 E Broad St Columbus OH 43209 United States;X-APPLE-RADIUS=500;X-TITLE=2657 E Broad St:geo:-82.9298615,39.9696101
END:VEVENT
END:VCALENDAR