BEGIN:VCALENDAR
VERSION:2.0
PRODID:-//Columbus - ECPv6.15.20//NONSGML v1.0//EN
CALSCALE:GREGORIAN
METHOD:PUBLISH
X-WR-CALNAME:Columbus
X-ORIGINAL-URL:https://columbus.cisvusa.org
X-WR-CALDESC:Events for Columbus
REFRESH-INTERVAL;VALUE=DURATION:PT1H
X-Robots-Tag:noindex
X-PUBLISHED-TTL:PT1H
BEGIN:VTIMEZONE
TZID:America/New_York
BEGIN:DAYLIGHT
TZOFFSETFROM:-0500
TZOFFSETTO:-0400
TZNAME:EDT
DTSTART:20240310T070000
END:DAYLIGHT
BEGIN:STANDARD
TZOFFSETFROM:-0400
TZOFFSETTO:-0500
TZNAME:EST
DTSTART:20241103T060000
END:STANDARD
BEGIN:DAYLIGHT
TZOFFSETFROM:-0500
TZOFFSETTO:-0400
TZNAME:EDT
DTSTART:20250309T070000
END:DAYLIGHT
BEGIN:STANDARD
TZOFFSETFROM:-0400
TZOFFSETTO:-0500
TZNAME:EST
DTSTART:20251102T060000
END:STANDARD
BEGIN:DAYLIGHT
TZOFFSETFROM:-0500
TZOFFSETTO:-0400
TZNAME:EDT
DTSTART:20260308T070000
END:DAYLIGHT
BEGIN:STANDARD
TZOFFSETFROM:-0400
TZOFFSETTO:-0500
TZNAME:EST
DTSTART:20261101T060000
END:STANDARD
END:VTIMEZONE
BEGIN:VEVENT
DTSTART;TZID=America/New_York:20250120T090000
DTEND;TZID=America/New_York:20250120T170000
DTSTAMP:20260421T012413
CREATED:20241230T232131Z
LAST-MODIFIED:20241230T233208Z
UID:10000048-1737363600-1737392400@columbus.cisvusa.org
SUMMARY:8 Hours of Peace
DESCRIPTION:Join Us for an Inspiring Day of Friendship and Action!\nKick off 2025 with us as we team up with the Midwest Ohio Chapter to practice peace and put words into action! This is your chance to experience the spirit of CISV and see what camp life is all about—right in our own backyard. Ride shares are available! \nWhat to Expect:\n\nEngaging Activities: Get a glimpse into the CISV experience with hands-on activities.\nMeals Included: Enjoy both lunch and dinner with new friends.\nBuild Connections: Plenty of opportunities to make lasting friendships.\n\nEvent Details:\n\nDate: Monday\, January 20\, 2025 (Martin Luther King Jr. Day)\nTime: 9:00 AM – 5:00 PM\nLocation: Pioneer Electric Cooperative Community Room\n510 E US Route 36\, Piqua\, OH 45356\nRegistration Fee: $25\n\nLet’s make 2025 a year to remember—together! \nRegister Here \n 
URL:https://columbus.cisvusa.org/event/8-hours-of-peace/
LOCATION:Pioneer Electric Cooperative\, 344 US-36\, Piqua\, OH\, 45356\, United States
END:VEVENT
END:VCALENDAR