BEGIN:VCALENDAR
VERSION:2.0
PRODID:-//Columbus - ECPv6.15.20//NONSGML v1.0//EN
CALSCALE:GREGORIAN
METHOD:PUBLISH
X-WR-CALNAME:Columbus
X-ORIGINAL-URL:https://columbus.cisvusa.org
X-WR-CALDESC:Events for Columbus
REFRESH-INTERVAL;VALUE=DURATION:PT1H
X-Robots-Tag:noindex
X-PUBLISHED-TTL:PT1H
BEGIN:VTIMEZONE
TZID:America/New_York
BEGIN:DAYLIGHT
TZOFFSETFROM:-0500
TZOFFSETTO:-0400
TZNAME:EDT
DTSTART:20180311T070000
END:DAYLIGHT
BEGIN:STANDARD
TZOFFSETFROM:-0400
TZOFFSETTO:-0500
TZNAME:EST
DTSTART:20181104T060000
END:STANDARD
BEGIN:DAYLIGHT
TZOFFSETFROM:-0500
TZOFFSETTO:-0400
TZNAME:EDT
DTSTART:20190310T070000
END:DAYLIGHT
BEGIN:STANDARD
TZOFFSETFROM:-0400
TZOFFSETTO:-0500
TZNAME:EST
DTSTART:20191103T060000
END:STANDARD
BEGIN:DAYLIGHT
TZOFFSETFROM:-0500
TZOFFSETTO:-0400
TZNAME:EDT
DTSTART:20200308T070000
END:DAYLIGHT
BEGIN:STANDARD
TZOFFSETFROM:-0400
TZOFFSETTO:-0500
TZNAME:EST
DTSTART:20201101T060000
END:STANDARD
END:VTIMEZONE
BEGIN:VEVENT
DTSTART;TZID=America/New_York:20190329T180000
DTEND;TZID=America/New_York:20190331T180000
DTSTAMP:20260419T180155
CREATED:20190122T170415Z
LAST-MODIFIED:20190226T224007Z
UID:10000012-1553882400-1554055200@columbus.cisvusa.org
SUMMARY:Mid-West RMC
DESCRIPTION:What in Tarnation is RMC? \nRMC (Regional Mini Camp) is a weekend-long camp that allows the midwest chapters: Cincinnati\, Columbus\, Detroit\, Miami County\, Michigan City-Lakeshore\, and North East Ohio\, to meet and have a WILDly good time! Over the weekend\, participants engage in educational and thought-provoking activities planned by the region’s leaders. In this action-packed and peace educational weekend\, be ready to have a darn tootin’ good time\, participate in activities\, and meet other rangers in our wild region! This camp is for anyone 11 and older. If you are under 18 you must have a chaperone\, but we can pair you with one if you are coming without one. Pony up\, Midwest Region! \nWhat should I pack? \n\nAttire for Friday\, Saturday\, and Sunday\nRunnin’ shoes\nOne Big Ol’ reusable water bottle\nA Sleeping bag and pillow\nAll y’all’s toiletries\nShower shoes\nTowel\nA snack to share (Ex: A bag of chips\, box of granola bars\, etc.)\nMoney and forms (below)\n\nHow do I sign up? \n\nClick here to register! We have limited spots so be sure to sign up soon.\n\n\nForms! Make sure to bring them to camp.\n\n\nHealth form (for all)\nYILF (for all under 18)\nALIF (for all over 18)\nTWAL (for 16-18 traveling alone)\n\n\nMoney! The total camp fee is $130. Pay in cash or check made out to “CISV Columbus” upon arrival or Venmo @CISVColumbus.\n\n\nPlease bring non-perishable food items to DONATE for charity. Compete against your fellow chapters for the most items!\n\nStill have questions? Contact us ! \nRachel Culp (Midwest Regional Liaison) rachelculp8@gmail.com \nWho is running this joint? \nAanya Belsare (She-Her) \nHowdy\, friends! You’re lookin’ at a real life cowgirl here. I’m the Co LJR of Detroit and I’m boot lickin’ excited to meet you all and staff the first Midwest RMC! I really like dogs\, horseback riding\, tennis\, Mulan\, honest kids juice boxes\, Reese’s\, and many more quirky girl thangs!! \nElliot Hughes (He-Him) \nHi guys I’m Elliot! My hobbies are swimming\, singing\, and eating\, and my favorite color is turquoise. This is my 5th RMC\, and my first time staffing. I’m really excited to meet Y’all! \nEvangelea Dabagia (She-Her) \nWhat’s poppin’ y’all\, my name is Evangelea Dabagia but you can call me Lea! I’m the LJR from Michigan City-Lakeshore. My favorite fruit is pineapple and I don’t really like country music\, but I can’t wait to channel my inner cowboy. This is my 5th RMC but my first time on staff and I am so excited to be a part of the first Midwest RMC! See you very soon! P.S I like cows but not as much as Veronica. \nGretchen Stevens (She-Her) Howdy partners! I am one of the LJRs from Miami County\, and I am as excited as a frog on a log to be staffin’ y’all’s RMC this year! I have already been to 3 of these\, but this is my first time staffing! I enjoy swimming\, golfing\, dancing\, and CISV with Y’all\, of course! P.S\,- High School Musical is my favorite movie ever. \nJohn Garrett (He-Him) \nHi\, I’m John and I really like music! I can play the piano\, sexyphone\, guitar\, ukulele\, drums\, and triangle! I also love cisv! I’m sure we will meet in another lifetime! #QuirkyGirlsUnite \nMichael Holleran  (He-Him) \nHowdy! I’m Mike and I’m from NEO. I love to listen to music and workout. I play football\, piano\, and clarinet and have been in CISV for a long time. I’m so excited for this year’s RMC with it being the first Midwest mini camp! It’s gonna be a great time! \nMollie Bretland (She-Her) \nGreetings\, cowboys ! I make up the other half of the Miami County Co-LJR duo\, and I’m excited to embark upon my seventh RMC ever ! This is my third time staffing a rootin’ tootin’ minicamp like this one\, and I’m happy to be here again. I love to write\, dance\, and spread the feminist fair trade agenda (ask me about it!) See you soon in the wild wild midwest\, I can’t wait to be friends with you buckaroos! \nNate Smith (He-Him) Howdy Y’all! I am so excited to run the first Midwest RMC! I love to bike and I play soccer! I have been to Village\, Interchange\, Step up\, Kitchen staff\, JC\, and soon to be seminar! Shoutout to NKY! \nVeronica Ross (She-Her) \nwhat’s goooood? I am the LJR from Columbus! I’m pretty tall and I like cows.  Surf’s Up is the best movie hands down. I love being outside\, making art\, strumming the banjo\, and having a grand ol’ time yee yee.\n\n\n\n\n\n\n\n\n\n\n\n\n\n\n\n\n\n\n\n\n\n\n\n\n\n\nCopyright © 2019 CISV Columbus\, All rights reserved.\nYou are receiving this email because you are currently a CISV Columbus member\, are formally a member of CISV Columbus\, or have expressed interest in CISV programs. \nOur mailing address is:\nCISV Columbus \n2503 Sherwood Rd \nBexley\, OH 43209 \nAdd us to your address book \nWant to change how you receive these emails?\nYou can update your preferences or unsubscribe from this list.
URL:https://columbus.cisvusa.org/event/mid-west-rmc/
LOCATION:Camp Akita\, 29746 Logan-Hornsmill Rd\, Logan\, OH\, 43138\, United States
ATTACH;FMTTYPE=image/jpeg:https://columbus.cisvusa.org/wp-content/uploads/sites/11/2019/01/9115DCB1-44E3-491A-9FB4-DCDFC8435F6B.jpeg
GEO:39.6190624;-82.4570635
X-APPLE-STRUCTURED-LOCATION;VALUE=URI;X-ADDRESS=Camp Akita 29746 Logan-Hornsmill Rd Logan OH 43138 United States;X-APPLE-RADIUS=500;X-TITLE=29746 Logan-Hornsmill Rd:geo:-82.4570635,39.6190624
END:VEVENT
END:VCALENDAR