BEGIN:VCALENDAR
VERSION:2.0
PRODID:-//Columbus - ECPv6.15.20//NONSGML v1.0//EN
CALSCALE:GREGORIAN
METHOD:PUBLISH
X-WR-CALNAME:Columbus
X-ORIGINAL-URL:https://columbus.cisvusa.org
X-WR-CALDESC:Events for Columbus
REFRESH-INTERVAL;VALUE=DURATION:PT1H
X-Robots-Tag:noindex
X-PUBLISHED-TTL:PT1H
BEGIN:VTIMEZONE
TZID:America/New_York
BEGIN:DAYLIGHT
TZOFFSETFROM:-0500
TZOFFSETTO:-0400
TZNAME:EDT
DTSTART:20180311T070000
END:DAYLIGHT
BEGIN:STANDARD
TZOFFSETFROM:-0400
TZOFFSETTO:-0500
TZNAME:EST
DTSTART:20181104T060000
END:STANDARD
BEGIN:DAYLIGHT
TZOFFSETFROM:-0500
TZOFFSETTO:-0400
TZNAME:EDT
DTSTART:20190310T070000
END:DAYLIGHT
BEGIN:STANDARD
TZOFFSETFROM:-0400
TZOFFSETTO:-0500
TZNAME:EST
DTSTART:20191103T060000
END:STANDARD
BEGIN:DAYLIGHT
TZOFFSETFROM:-0500
TZOFFSETTO:-0400
TZNAME:EDT
DTSTART:20200308T070000
END:DAYLIGHT
BEGIN:STANDARD
TZOFFSETFROM:-0400
TZOFFSETTO:-0500
TZNAME:EST
DTSTART:20201101T060000
END:STANDARD
END:VTIMEZONE
BEGIN:VEVENT
DTSTART;TZID=America/New_York:20190611T170000
DTEND;TZID=America/New_York:20190611T210000
DTSTAMP:20260420T185201
CREATED:20190603T195812Z
LAST-MODIFIED:20190603T195812Z
UID:10000019-1560272400-1560286800@columbus.cisvusa.org
SUMMARY:Chipotle Fundraiser to support our 2020 Village
DESCRIPTION:Join us for a fundraiser to support CISV Columbus!  Just come in to the Chipotle in Bexley on Tuesday\, June 11th from 5:00 pm to 9:00 pm for your favorite bowl or burrito.  Tell the cashier you’re supporting the cause to make sure 33% of the proceeds will be donated to CISV Columbus.  We’ll be there to celebrate our love for CISV (and Chipotle) together.  The proceeds will benefit the Columbus Village 2020\, so thank you in advance for your impactful contribution!
URL:https://columbus.cisvusa.org/event/chipotle-fundraiser-to-support-our-2020-village/
LOCATION:chipotle Bexley\, 2484 E Main St\, Columbus\, 43209\, United States
ATTACH;FMTTYPE=image/jpeg:https://columbus.cisvusa.org/wp-content/uploads/sites/11/2019/06/D0A2E335-B76A-4AC4-9B9A-D9B677AEC3B0.jpeg
GEO:39.95737;-82.932431
X-APPLE-STRUCTURED-LOCATION;VALUE=URI;X-ADDRESS=chipotle Bexley 2484 E Main St Columbus 43209 United States;X-APPLE-RADIUS=500;X-TITLE=2484 E Main St:geo:-82.932431,39.95737
END:VEVENT
END:VCALENDAR