BEGIN:VCALENDAR
VERSION:2.0
PRODID:-//Columbus - ECPv6.15.20//NONSGML v1.0//EN
CALSCALE:GREGORIAN
METHOD:PUBLISH
X-WR-CALNAME:Columbus
X-ORIGINAL-URL:https://columbus.cisvusa.org
X-WR-CALDESC:Events for Columbus
REFRESH-INTERVAL;VALUE=DURATION:PT1H
X-Robots-Tag:noindex
X-PUBLISHED-TTL:PT1H
BEGIN:VTIMEZONE
TZID:America/New_York
BEGIN:DAYLIGHT
TZOFFSETFROM:-0500
TZOFFSETTO:-0400
TZNAME:EDT
DTSTART:20180311T070000
END:DAYLIGHT
BEGIN:STANDARD
TZOFFSETFROM:-0400
TZOFFSETTO:-0500
TZNAME:EST
DTSTART:20181104T060000
END:STANDARD
BEGIN:DAYLIGHT
TZOFFSETFROM:-0500
TZOFFSETTO:-0400
TZNAME:EDT
DTSTART:20190310T070000
END:DAYLIGHT
BEGIN:STANDARD
TZOFFSETFROM:-0400
TZOFFSETTO:-0500
TZNAME:EST
DTSTART:20191103T060000
END:STANDARD
BEGIN:DAYLIGHT
TZOFFSETFROM:-0500
TZOFFSETTO:-0400
TZNAME:EDT
DTSTART:20200308T070000
END:DAYLIGHT
BEGIN:STANDARD
TZOFFSETFROM:-0400
TZOFFSETTO:-0500
TZNAME:EST
DTSTART:20201101T060000
END:STANDARD
END:VTIMEZONE
BEGIN:VEVENT
DTSTART;TZID=America/New_York:20190524T190000
DTEND;TZID=America/New_York:20190527T120000
DTSTAMP:20260419T080521
CREATED:20190409T011119Z
LAST-MODIFIED:20190409T011119Z
UID:10000016-1558724400-1558958400@columbus.cisvusa.org
SUMMARY:National Mini-Camp 2019 (NMC)
DESCRIPTION:WHAT IS NMC?\nEvery Memorial Day weekend\, JB USA hosts the National Mini Camp. This weekend brings together JBers from JB USA to participate in fun\, educational activities that celebrate the CISV philosophy and provide an opportunity for youth to learn\, grow\, have fun\, and build friendships. National Mini Camp is open to all JBers\, age 11-25. The activities will be structured around our four educational content areas: sustainable development\, diversity\, conflict and resolution\, and human rights.\nWHY CISV University?\nOne of the many reasons lots of people love CISV is the learning that it fosters. So it seems only natural that at some point there would arise a “CISV University\,” where CISVers from all over can come together to learn from one another! So get ready for the best for years (days) of your life\, as you open the door to the world through education\, dialogue\, and of course\, fun! \nNational Mini Camp Website 2019
URL:https://columbus.cisvusa.org/event/national-mini-camp-2019-nmc/
LOCATION:Howell Nature Center\, 1005 Triangle Lake Rd\, Howell\, MI\, 48843\, United States
ATTACH;FMTTYPE=image/jpeg:https://columbus.cisvusa.org/wp-content/uploads/sites/11/2019/04/1F166F8C-93BD-4A2F-B754-4914F893E1A0.jpeg
GEO:42.5207594;-83.9484769
X-APPLE-STRUCTURED-LOCATION;VALUE=URI;X-ADDRESS=Howell Nature Center 1005 Triangle Lake Rd Howell MI 48843 United States;X-APPLE-RADIUS=500;X-TITLE=1005 Triangle Lake Rd:geo:-83.9484769,42.5207594
END:VEVENT
END:VCALENDAR